BEGIN:VCALENDAR
VERSION:2.0
PRODID:-//Livingstone Academy - ECPv6.15.14//NONSGML v1.0//EN
CALSCALE:GREGORIAN
METHOD:PUBLISH
X-ORIGINAL-URL:https://www.livingstone-aspirations.org
X-WR-CALDESC:Events for Livingstone Academy
REFRESH-INTERVAL;VALUE=DURATION:PT1H
X-Robots-Tag:noindex
X-PUBLISHED-TTL:PT1H
BEGIN:VTIMEZONE
TZID:Europe/London
BEGIN:DAYLIGHT
TZOFFSETFROM:+0000
TZOFFSETTO:+0100
TZNAME:BST
DTSTART:20200329T010000
END:DAYLIGHT
BEGIN:STANDARD
TZOFFSETFROM:+0100
TZOFFSETTO:+0000
TZNAME:GMT
DTSTART:20201025T010000
END:STANDARD
BEGIN:DAYLIGHT
TZOFFSETFROM:+0000
TZOFFSETTO:+0100
TZNAME:BST
DTSTART:20210328T010000
END:DAYLIGHT
BEGIN:STANDARD
TZOFFSETFROM:+0100
TZOFFSETTO:+0000
TZNAME:GMT
DTSTART:20211031T010000
END:STANDARD
BEGIN:DAYLIGHT
TZOFFSETFROM:+0000
TZOFFSETTO:+0100
TZNAME:BST
DTSTART:20220327T010000
END:DAYLIGHT
BEGIN:STANDARD
TZOFFSETFROM:+0100
TZOFFSETTO:+0000
TZNAME:GMT
DTSTART:20221030T010000
END:STANDARD
END:VTIMEZONE
BEGIN:VEVENT
DTSTART;VALUE=DATE:20211008
DTEND;VALUE=DATE:20211009
DTSTAMP:20260419T205043
CREATED:20210426T084302Z
LAST-MODIFIED:20210426T084302Z
UID:1327-1633651200-1633737599@www.livingstone-aspirations.org
SUMMARY:Inset Day
DESCRIPTION:
URL:https://www.livingstone-aspirations.org/event/inset-day-2/
END:VEVENT
BEGIN:VEVENT
DTSTART;VALUE=DATE:20211025
DTEND;VALUE=DATE:20211030
DTSTAMP:20260419T205043
CREATED:20210426T084351Z
LAST-MODIFIED:20210426T084351Z
UID:1329-1635120000-1635551999@www.livingstone-aspirations.org
SUMMARY:October Half Term - School Closed
DESCRIPTION:
URL:https://www.livingstone-aspirations.org/event/october-half-term-school-closed/
END:VEVENT
END:VCALENDAR